BEGIN:VCALENDAR
VERSION:2.0
PRODID:-//pretix//pretix.eu//
BEGIN:VTIMEZONE
TZID:Europe/Berlin
BEGIN:STANDARD
DTSTART:20001029T040000
RRULE:FREQ=YEARLY;BYDAY=-1SU;BYMONTH=10
TZNAME:CET
TZOFFSETFROM:+0200
TZOFFSETTO:+0100
END:STANDARD
BEGIN:DAYLIGHT
DTSTART:20000326T030000
RRULE:FREQ=YEARLY;BYDAY=-1SU;BYMONTH=3
TZNAME:CEST
TZOFFSETFROM:+0100
TZOFFSETTO:+0200
END:DAYLIGHT
END:VTIMEZONE
BEGIN:VEVENT
UID:pretix-eso-ahaus-tickets-4922396@eso-ahaus.vereinsticket.de
DTSTART;TZID=Europe/Berlin:20260530T110000
DTEND;TZID=Europe/Berlin:20260530T120000
DESCRIPTION:Tickets: https://eso-ahaus.vereinsticket.de/tickets/4922396/\nE
 inlass: 30.05.2026 10:30\nVeranstalter: Euregio Symphonieorchester des akt
 uelles forum Volkshochschule für Ahaus\, Stadtlohn\, Vreden\, Heek\, Legd
 en\, Schöppingen und Südlohn
DTSTAMP:20260422T152333Z
LOCATION:Konzertsaal Vreden (Gymnasium Georgianum)\, Zwillbrocker Straße 3
 \, 48691 Vreden
SUMMARY:Kinderkonzert "Die Zauberflöte" Samstag\, 30 Mai\, 11 Uhr
END:VEVENT
END:VCALENDAR
